BEGIN:VCALENDAR
VERSION:2.0
PRODID:-//Teaching Fellows Institute - ECPv4.1.1//NONSGML v1.0//EN
CALSCALE:GREGORIAN
METHOD:PUBLISH
X-WR-CALNAME:Teaching Fellows Institute
X-ORIGINAL-URL:https://teachingfellowsinstitute.org
X-WR-CALDESC:Events for Teaching Fellows Institute
BEGIN:VEVENT
DTSTART;TZID=UTC+0:20230801T190000
DTEND;TZID=UTC+0:20230801T200000
DTSTAMP:20260424T094313
CREATED:20230607T105601
LAST-MODIFIED:20230607T110226
UID:13695-1690916400-1690920000@teachingfellowsinstitute.org
SUMMARY:TFI 2023 FREE Parent & Community Talk-Strategies to Encourage Your Child's Attention with Andrew Watson from Learning & the Brain-R.s.v.p. today!
DESCRIPTION:REGISTER HERE: https://bit.ly/TFITalk\n\nVirtual FREE Talk via Zoom (link will be emailed before the event)\nTuesday\, August 1\, 2023 at 7 pm\nMr. Watson's webpage:  https://www.learningandthebrain.com/education-speakers/Andrew-Watson\nJoin us via Zoom where we will discuss:\n\n\n \tWhat attention is (and what it isn't)\n \tHow to foster attention and discourage distraction\n \tThe best way to understand technology and attention.\n\n\n We will email you the Zoom link before the talk.
URL:https://teachingfellowsinstitute.org/event/tfi-2023-free-parent-community-talk-strategies-to-encourage-your-childs-attention-with-andrew-watson-from-learning-the-brain-r-s-v-p-today/
CATEGORIES:Events
END:VEVENT
END:VCALENDAR