BEGIN:VCALENDAR
VERSION:2.0
PRODID:-//Teaching Fellows Institute - ECPv4.1.1//NONSGML v1.0//EN
CALSCALE:GREGORIAN
METHOD:PUBLISH
X-WR-CALNAME:Teaching Fellows Institute
X-ORIGINAL-URL:https://teachingfellowsinstitute.org
X-WR-CALDESC:Events for Teaching Fellows Institute
BEGIN:VEVENT
DTSTART;VALUE=DATE:20240729
DTEND;VALUE=DATE:20240729
DTSTAMP:20260424T043249
CREATED:20240221
LAST-MODIFIED:20240221
UID:13714-1722211200-1722297599@teachingfellowsinstitute.org
SUMMARY:TFI 2024 Symposium Day 1: Training for Life with Terrie Reeves\, Empower Health America
DESCRIPTION:Our Class of 2024 will be treated to a full-day Train for Life workshop with Terrie Reeves\n\nThe workshop will guide our Fellows through a self-report process that allows them to take inventory of their lives across 15 dimensions and covers:\n\n \t\n5P Change Model - coaching process \n\n \t\nEvidence-based assessment tools: WorkPlace Big Five\, Everything DiSC\, Five Behaviors - team\, Actualized Leadership Profile\, and Empowerment Health America 360◦\n\n \t\nTrain For Life™ Assessment\n\n \t\nTrain For Life™ Online Platform\n\n \t\nIdeal Being® Model\n\n \t\nEvidence-based resources and tools to support learning\n\n
URL:https://teachingfellowsinstitute.org/event/tfi-2024-symposium-day-1-training-for-life-with-terrie-reeves-empower-health-america/
CATEGORIES:Events
END:VEVENT
END:VCALENDAR