BEGIN:VCALENDAR
VERSION:2.0
PRODID:-//Teaching Fellows Institute - ECPv4.1.1//NONSGML v1.0//EN
CALSCALE:GREGORIAN
METHOD:PUBLISH
X-WR-CALNAME:Teaching Fellows Institute
X-ORIGINAL-URL:https://teachingfellowsinstitute.org
X-WR-CALDESC:Events for Teaching Fellows Institute
BEGIN:VEVENT
DTSTART;TZID=UTC+0:20240222T190000
DTEND;TZID=UTC+0:20240222T200000
DTSTAMP:20260424T061328
CREATED:20240221T164301
LAST-MODIFIED:20240221T164301
UID:13711-1708628400-1708632000@teachingfellowsinstitute.org
SUMMARY:TFI 2024 Winter Alumni Talks!
DESCRIPTION:Four of our TFI alumni have generously offered to share their knowledge with us in short (one-hour) virtual talks this Winter!\nSo cozy up with a warm beverage and join your TFI colleagues for one or more of these conversations!\n\n2024 Thursday Evening Alumni Talk Series:\n(all sessions from 7-8) on Jan 25\, Feb 1\, 15 and 22.\nJanuary 25 with Elizabeth Barrick on\nMy 2023: On being a Top Chef and a Teacher!\nFebruary 1 with Joanna Loftis on\nHow to advocate for ML (ESL) students through MTSS\nFebruary 15 with Bridget Wilson on\nInstructional Coaching\nFebrury 22 with Wendy Mueller on\nGraphic Novels and Visual Literacy
URL:https://teachingfellowsinstitute.org/event/tfi-2024-winter-alumni-talks/
CATEGORIES:Events
END:VEVENT
END:VCALENDAR